BEGIN:VCALENDAR
VERSION:2.0
PRODID:-//Spar Golf Courses - ECPv6.15.20//NONSGML v1.0//EN
CALSCALE:GREGORIAN
METHOD:PUBLISH
X-ORIGINAL-URL:https://spargolf.org
X-WR-CALDESC:Events for Spar Golf Courses
REFRESH-INTERVAL;VALUE=DURATION:PT1H
X-Robots-Tag:noindex
X-PUBLISHED-TTL:PT1H
BEGIN:VTIMEZONE
TZID:America/Toronto
BEGIN:DAYLIGHT
TZOFFSETFROM:-0500
TZOFFSETTO:-0400
TZNAME:EDT
DTSTART:20180311T070000
END:DAYLIGHT
BEGIN:STANDARD
TZOFFSETFROM:-0400
TZOFFSETTO:-0500
TZNAME:EST
DTSTART:20181104T060000
END:STANDARD
BEGIN:DAYLIGHT
TZOFFSETFROM:-0500
TZOFFSETTO:-0400
TZNAME:EDT
DTSTART:20190310T070000
END:DAYLIGHT
BEGIN:STANDARD
TZOFFSETFROM:-0400
TZOFFSETTO:-0500
TZNAME:EST
DTSTART:20191103T060000
END:STANDARD
BEGIN:DAYLIGHT
TZOFFSETFROM:-0500
TZOFFSETTO:-0400
TZNAME:EDT
DTSTART:20200308T070000
END:DAYLIGHT
BEGIN:STANDARD
TZOFFSETFROM:-0400
TZOFFSETTO:-0500
TZNAME:EST
DTSTART:20201101T060000
END:STANDARD
END:VTIMEZONE
BEGIN:VTIMEZONE
TZID:America/Chicago
BEGIN:DAYLIGHT
TZOFFSETFROM:-0600
TZOFFSETTO:-0500
TZNAME:CDT
DTSTART:20180311T080000
END:DAYLIGHT
BEGIN:STANDARD
TZOFFSETFROM:-0500
TZOFFSETTO:-0600
TZNAME:CST
DTSTART:20181104T070000
END:STANDARD
BEGIN:DAYLIGHT
TZOFFSETFROM:-0600
TZOFFSETTO:-0500
TZNAME:CDT
DTSTART:20190310T080000
END:DAYLIGHT
BEGIN:STANDARD
TZOFFSETFROM:-0500
TZOFFSETTO:-0600
TZNAME:CST
DTSTART:20191103T070000
END:STANDARD
BEGIN:DAYLIGHT
TZOFFSETFROM:-0600
TZOFFSETTO:-0500
TZNAME:CDT
DTSTART:20200308T080000
END:DAYLIGHT
BEGIN:STANDARD
TZOFFSETFROM:-0500
TZOFFSETTO:-0600
TZNAME:CST
DTSTART:20201101T070000
END:STANDARD
END:VTIMEZONE
BEGIN:VEVENT
DTSTART;VALUE=DATE:20190619
DTEND;VALUE=DATE:20190620
DTSTAMP:20260425T053024
CREATED:20190613T220619Z
LAST-MODIFIED:20190613T220619Z
UID:10001815-1560902400-1560988799@spargolf.org
SUMMARY:Balsamic Chicken & Pasta \, Green Beans \, Garlic Butter Roll
DESCRIPTION:
URL:https://spargolf.org/event/balsamic-chicken-pasta-green-beans-garlic-butter-roll/
CATEGORIES:Beverly’s on 19 Lunch Specials
END:VEVENT
BEGIN:VEVENT
DTSTART;VALUE=DATE:20190620
DTEND;VALUE=DATE:20190621
DTSTAMP:20260425T053024
CREATED:20190613T220657Z
LAST-MODIFIED:20190613T220658Z
UID:10001816-1560988800-1561075199@spargolf.org
SUMMARY:(2)  Grilled Chicken Street Taco’s or $12.00 (2)Beef Street Taco’s w/ Cilantro Lime Rice
DESCRIPTION:
URL:https://spargolf.org/event/2-grilled-chicken-street-tacos-or-12-00-2beef-street-tacos-w-cilantro-lime-rice/
CATEGORIES:Beverly’s on 19 Lunch Specials
END:VEVENT
BEGIN:VEVENT
DTSTART;VALUE=DATE:20190621
DTEND;VALUE=DATE:20190622
DTSTAMP:20260425T053024
CREATED:20190613T220720Z
LAST-MODIFIED:20190613T220720Z
UID:10001817-1561075200-1561161599@spargolf.org
SUMMARY:Catfish & Shrimp \, Potato Salad or Broccoli Slaw\, Baked Beans or $12.00 Blackened Shrimp Stroganoff w/ Pasta\, Side Salad\, Dinner Roll
DESCRIPTION:
URL:https://spargolf.org/event/catfish-shrimp-potato-salad-or-broccoli-slaw-baked-beans-or-12-00-blackened-shrimp-stroganoff-w-pasta-side-salad-dinner-roll/
CATEGORIES:Beverly’s on 19 Lunch Specials
END:VEVENT
BEGIN:VEVENT
DTSTART;VALUE=DATE:20190622
DTEND;VALUE=DATE:20190623
DTSTAMP:20260425T053024
CREATED:20190613T220743Z
LAST-MODIFIED:20190613T220744Z
UID:10001818-1561161600-1561247999@spargolf.org
SUMMARY:Grilled or Fried Shrimp Burger w/ Seasoned Fries
DESCRIPTION:
URL:https://spargolf.org/event/grilled-or-fried-shrimp-burger-w-seasoned-fries/
CATEGORIES:Beverly’s on 19 Lunch Specials
END:VEVENT
BEGIN:VEVENT
DTSTART;VALUE=DATE:20190623
DTEND;VALUE=DATE:20190624
DTSTAMP:20260425T053024
CREATED:20190613T220807Z
LAST-MODIFIED:20190613T220807Z
UID:10001819-1561248000-1561334399@spargolf.org
SUMMARY:Smothered Pork Chops w/ Mashed Potato & Gravy\, Mustard Greens\, Lima Beans\, Cornbread
DESCRIPTION:
URL:https://spargolf.org/event/smothered-pork-chops-w-mashed-potato-gravy-mustard-greens-lima-beans-cornbread/
CATEGORIES:Beverly’s on 19 Lunch Specials
END:VEVENT
BEGIN:VEVENT
DTSTART;VALUE=DATE:20190624
DTEND;VALUE=DATE:20190625
DTSTAMP:20260425T053024
CREATED:20190621T173142Z
LAST-MODIFIED:20190628T144611Z
UID:10001820-1561334400-1561420799@spargolf.org
SUMMARY:Chicken Cordon Bleu w/ Loaded Mashed Potato\, Seasoned Green Beans\, Garlic Bread
DESCRIPTION:
URL:https://spargolf.org/event/chicken-cordon-bleu-w-loaded-mashed-potato-seasoned-green-beans-garlic-bread/
CATEGORIES:Beverly’s on 19 Lunch Specials
END:VEVENT
BEGIN:VEVENT
DTSTART;VALUE=DATE:20190626
DTEND;VALUE=DATE:20190627
DTSTAMP:20260425T053024
CREATED:20190621T173210Z
LAST-MODIFIED:20190621T173211Z
UID:10001821-1561507200-1561593599@spargolf.org
SUMMARY:Beef Tips W/ Rice & Gravy\, Mustard Greens\, Lima Beans\, Cornbread
DESCRIPTION:
URL:https://spargolf.org/event/beef-tips-w-rice-gravy-mustard-greens-lima-beans-cornbread/
CATEGORIES:Beverly’s on 19 Lunch Specials
END:VEVENT
BEGIN:VEVENT
DTSTART;VALUE=DATE:20190627
DTEND;VALUE=DATE:20190628
DTSTAMP:20260425T053024
CREATED:20190621T173231Z
LAST-MODIFIED:20190628T144600Z
UID:10001822-1561593600-1561679999@spargolf.org
SUMMARY:Country Fried Steak w/ Mashed Potato & Country Gravy \, Corn on Cob\, Side Salad\, Texas Toast
DESCRIPTION:
URL:https://spargolf.org/event/country-fried-steak-w-mashed-potato-country-gravy-corn-on-cob-side-salad-texas-toast/
CATEGORIES:Beverly’s on 19 Lunch Specials
END:VEVENT
BEGIN:VEVENT
DTSTART;VALUE=DATE:20190628
DTEND;VALUE=DATE:20190629
DTSTAMP:20260425T053024
CREATED:20190621T173253Z
LAST-MODIFIED:20190628T144533Z
UID:10001823-1561680000-1561766399@spargolf.org
SUMMARY:Catfish & Shrimp\, Potato Salad or Coleslaw\, Baked Beans 2nd Choice $15.00 Frogmore Stew ( 1lb shrimp\, Corn on cob\, 3 red potatoes\, Sausage)
DESCRIPTION:
URL:https://spargolf.org/event/catfish-shrimp-potato-salad-or-coleslaw-baked-beans-2nd-choice-15-00-frogmore-stew-1lb-shrimp-corn-on-cob-3-red-potatoes-sausage/
CATEGORIES:Beverly’s on 19 Lunch Specials
END:VEVENT
BEGIN:VEVENT
DTSTART;VALUE=DATE:20190629
DTEND;VALUE=DATE:20190630
DTSTAMP:20260425T053024
CREATED:20190621T173322Z
LAST-MODIFIED:20190628T144448Z
UID:10001824-1561766400-1561852799@spargolf.org
SUMMARY:Fried Buffalo Ranch Chicken Salad
DESCRIPTION:
URL:https://spargolf.org/event/fried-buffalo-ranch-chicken-salad/
CATEGORIES:Beverly’s on 19 Lunch Specials
END:VEVENT
BEGIN:VEVENT
DTSTART;VALUE=DATE:20190630
DTEND;VALUE=DATE:20190701
DTSTAMP:20260425T053024
CREATED:20190621T173341Z
LAST-MODIFIED:20190628T144417Z
UID:10001825-1561852800-1561939199@spargolf.org
SUMMARY:Brown Gravy Meatloaf w/ Rice & Gravy \, Cabbage Greens\, Okra & Tomato\, Cornbread
DESCRIPTION:
URL:https://spargolf.org/event/brown-gravy-meatloaf-w-rice-gravy-cabbage-greens-okra-tomato-cornbread/
CATEGORIES:Beverly’s on 19 Lunch Specials
END:VEVENT
BEGIN:VEVENT
DTSTART;VALUE=DATE:20190701
DTEND;VALUE=DATE:20190702
DTSTAMP:20260425T053024
CREATED:20190628T152733Z
LAST-MODIFIED:20190628T144306Z
UID:10001826-1561939200-1562025599@spargolf.org
SUMMARY:Chicken Bacon Ranch Casserole w/ Side Salad & Corn Dinner Roll
DESCRIPTION:
URL:https://spargolf.org/event/chicken-bacon-ranch-casserole-w-side-salad-corn-dinner-roll/
CATEGORIES:Beverly’s on 19 Lunch Specials
END:VEVENT
BEGIN:VEVENT
DTSTART;VALUE=DATE:20190703
DTEND;VALUE=DATE:20190704
DTSTAMP:20260425T053024
CREATED:20190628T152756Z
LAST-MODIFIED:20190628T144237Z
UID:10001827-1562112000-1562198399@spargolf.org
SUMMARY:Seafood Stuffed Cabbage Roll w/ Mashed Potato & Green Beans\, Dinner Roll
DESCRIPTION:
URL:https://spargolf.org/event/seafood-stuffed-cabbage-roll-w-mashed-potato-green-beans-dinner-roll/
CATEGORIES:Beverly’s on 19 Lunch Specials
END:VEVENT
BEGIN:VEVENT
DTSTART;VALUE=DATE:20190704
DTEND;VALUE=DATE:20190705
DTSTAMP:20260425T053024
CREATED:20190628T152819Z
LAST-MODIFIED:20190628T144208Z
UID:10001828-1562198400-1562284799@spargolf.org
SUMMARY:$12.00 Combo Plate BBQ Sticky Chicken & Sausage \, Macaroni & Cheese \, Baked Beans Texas Toast
DESCRIPTION:
URL:https://spargolf.org/event/12-00-combo-plate-bbq-sticky-chicken-sausage-macaroni-cheese-baked-beans-texas-toast/
CATEGORIES:Beverly’s on 19 Lunch Specials
END:VEVENT
BEGIN:VEVENT
DTSTART;VALUE=DATE:20190705
DTEND;VALUE=DATE:20190706
DTSTAMP:20260425T053024
CREATED:20190628T152839Z
LAST-MODIFIED:20190628T144132Z
UID:10001829-1562284800-1562371199@spargolf.org
SUMMARY:Catfish & Shrimp \, Potato Salad or Cajun Coleslaw & Baked Beans \, 2nd choice $12.00 Crawfish Ettoufee w/ Rice\, Dinner Roll
DESCRIPTION:
URL:https://spargolf.org/event/catfish-shrimp-potato-salad-or-cajun-coleslaw-baked-beans-2nd-choice-12-00-crawfish-ettoufee-w-rice-dinner-roll/
CATEGORIES:Beverly’s on 19 Lunch Specials
END:VEVENT
BEGIN:VEVENT
DTSTART;VALUE=DATE:20190706
DTEND;VALUE=DATE:20190707
DTSTAMP:20260425T053024
CREATED:20190628T152900Z
LAST-MODIFIED:20190628T144059Z
UID:10001830-1562371200-1562457599@spargolf.org
SUMMARY:Shrimp Creole W/ Rice \, Dinner Roll
DESCRIPTION:
URL:https://spargolf.org/event/shrimp-creole-w-rice-dinner-roll/
CATEGORIES:Beverly’s on 19 Lunch Specials
END:VEVENT
BEGIN:VEVENT
DTSTART;VALUE=DATE:20190707
DTEND;VALUE=DATE:20190708
DTSTAMP:20260425T053024
CREATED:20190628T152920Z
LAST-MODIFIED:20190628T144004Z
UID:10001831-1562457600-1562543999@spargolf.org
SUMMARY:Beef Strogranoff over Buttered Noodle\, Green Beans\, Side Salad\, Dinner Roll
DESCRIPTION:
URL:https://spargolf.org/event/beef-strogranoff-over-buttered-noodle-green-beans-side-salad-dinner-roll/
CATEGORIES:Beverly’s on 19 Lunch Specials
END:VEVENT
BEGIN:VEVENT
DTSTART;VALUE=DATE:20190708
DTEND;VALUE=DATE:20190709
DTSTAMP:20260425T053024
CREATED:20190708T160518Z
LAST-MODIFIED:20190708T160519Z
UID:10001832-1562544000-1562630399@spargolf.org
SUMMARY:Brown Gravy Meatloaf w/ Rice & Gravy\, Cabbage Greens\, Field Peas\, Cornbread
DESCRIPTION:
URL:https://spargolf.org/event/brown-gravy-meatloaf-w-rice-gravy-cabbage-greens-field-peas-cornbread/
CATEGORIES:Beverly’s on 19 Lunch Specials
END:VEVENT
BEGIN:VEVENT
DTSTART;VALUE=DATE:20190710
DTEND;VALUE=DATE:20190711
DTSTAMP:20260425T053024
CREATED:20190708T160540Z
LAST-MODIFIED:20190708T160540Z
UID:10001833-1562716800-1562803199@spargolf.org
SUMMARY:BBQ Chicken w/ Macaroni & Cheese \, Green Beans\, Dinner Roll
DESCRIPTION:
URL:https://spargolf.org/event/bbq-chicken-w-macaroni-cheese-green-beans-dinner-roll/
CATEGORIES:Beverly’s on 19 Lunch Specials
END:VEVENT
BEGIN:VEVENT
DTSTART;VALUE=DATE:20190711
DTEND;VALUE=DATE:20190712
DTSTAMP:20260425T053024
CREATED:20190708T160600Z
LAST-MODIFIED:20190708T160600Z
UID:10001834-1562803200-1562889599@spargolf.org
SUMMARY:Chicken Bacon Ranch Casserole \, Side Salad\, Buttered Corn\, Dinner Roll
DESCRIPTION:
URL:https://spargolf.org/event/chicken-bacon-ranch-casserole-side-salad-buttered-corn-dinner-roll/
CATEGORIES:Beverly’s on 19 Lunch Specials
END:VEVENT
BEGIN:VEVENT
DTSTART;VALUE=DATE:20190712
DTEND;VALUE=DATE:20190713
DTSTAMP:20260425T053024
CREATED:20190708T160620Z
LAST-MODIFIED:20190708T160621Z
UID:10001835-1562889600-1562975999@spargolf.org
SUMMARY:Fish & Shrimp\, Potato Salad\, or Coleslaw\, Baked Beans or Chicken & Sausage Gumbo or $12.00 Seafood Gumbo w/ Rice & Cornbread Muffin
DESCRIPTION:
URL:https://spargolf.org/event/fish-shrimp-potato-salad-or-coleslaw-baked-beans-or-chicken-sausage-gumbo-or-12-00-seafood-gumbo-w-rice-cornbread-muffin/
CATEGORIES:Beverly’s on 19 Lunch Specials
END:VEVENT
BEGIN:VEVENT
DTSTART;VALUE=DATE:20190713
DTEND;VALUE=DATE:20190714
DTSTAMP:20260425T053024
CREATED:20190708T160641Z
LAST-MODIFIED:20190708T160641Z
UID:10001836-1562976000-1563062399@spargolf.org
SUMMARY:Shrimp Burger w/ Seasoned Fries
DESCRIPTION:
URL:https://spargolf.org/event/shrimp-burger-w-seasoned-fries/
CATEGORIES:Beverly’s on 19 Lunch Specials
END:VEVENT
BEGIN:VEVENT
DTSTART;VALUE=DATE:20190714
DTEND;VALUE=DATE:20190715
DTSTAMP:20260425T053024
CREATED:20190708T160701Z
LAST-MODIFIED:20190708T160701Z
UID:10001757-1563062400-1563148799@spargolf.org
SUMMARY:Beef Tips or Hamburger Steaks W/ Rice & Gravy \, Mustard Greens\, Lima Beans\, Cornbread
DESCRIPTION:
URL:https://spargolf.org/event/beef-tips-or-hamburger-steaks-w-rice-gravy-mustard-greens-lima-beans-cornbread/
CATEGORIES:Beverly’s on 19 Lunch Specials
END:VEVENT
BEGIN:VEVENT
DTSTART;VALUE=DATE:20190715
DTEND;VALUE=DATE:20190716
DTSTAMP:20260425T053024
CREATED:20190711T140215Z
LAST-MODIFIED:20190711T140240Z
UID:10001758-1563148800-1563235199@spargolf.org
SUMMARY:Entree: Chicken Fried Chicken\, Starch: Red Skin Mashed Potato W/ Country Gravy\, Vegetables: Sweet Corn & Side Salad\, Bread: Dinner Roll
DESCRIPTION:
URL:https://spargolf.org/event/chicken-fried-chicken-starch-red-skin-mashed-potato-w-country-gravy-vegetables-sweet-corn-side-salad-bread-dinner-roll/
CATEGORIES:Beverly’s on 19 Lunch Specials
END:VEVENT
BEGIN:VEVENT
DTSTART;VALUE=DATE:20190717
DTEND;VALUE=DATE:20190718
DTSTAMP:20260425T053024
CREATED:20190711T140258Z
LAST-MODIFIED:20190711T140258Z
UID:10001759-1563321600-1563407999@spargolf.org
SUMMARY:Entrée: Blackened Tilapia\, Starch: Rice Pilaf Vegetables: Side Salad \, Broccoli w/ Cheese\, Bread: Dinner Roll
DESCRIPTION:
URL:https://spargolf.org/event/entree-blackened-tilapia-starch-rice-pilaf-vegetables-side-salad-broccoli-w-cheese-bread-dinner-roll/
CATEGORIES:Beverly’s on 19 Lunch Specials
END:VEVENT
BEGIN:VEVENT
DTSTART;VALUE=DATE:20190718
DTEND;VALUE=DATE:20190719
DTSTAMP:20260425T053024
CREATED:20190711T140317Z
LAST-MODIFIED:20190711T140317Z
UID:10001760-1563408000-1563494399@spargolf.org
SUMMARY:Entrée: Mongolian Beef & Broccoli\, Starch: Rice \, Vegetables: Side Salad \, Bread: Dinner Roll
DESCRIPTION:
URL:https://spargolf.org/event/entree-mongolian-beef-broccoli-starch-rice-vegetables-side-salad-bread-dinner-roll/
CATEGORIES:Beverly’s on 19 Lunch Specials
END:VEVENT
BEGIN:VEVENT
DTSTART;VALUE=DATE:20190719
DTEND;VALUE=DATE:20190720
DTSTAMP:20260425T053024
CREATED:20190711T140344Z
LAST-MODIFIED:20190711T140344Z
UID:10001761-1563494400-1563580799@spargolf.org
SUMMARY:Entrée: Catfish & Shrimp \, Starch: Baked Beans or Potato Salad\, Vegetables: Coleslaw\, or 2nd Entrée $12.00 Shrimp Boil ( 1.5lbs Shrimp\, Boiled Corn\, Red Skin Potatoes)
DESCRIPTION:
URL:https://spargolf.org/event/entree-catfish-shrimp-starch-baked-beans-or-potato-salad-vegetables-coleslaw-or-2nd-entree-12-00-shrimp-boil-1-5lbs-shrimp-boiled-corn-red-skin-potatoes/
CATEGORIES:Beverly’s on 19 Lunch Specials
END:VEVENT
BEGIN:VEVENT
DTSTART;VALUE=DATE:20190720
DTEND;VALUE=DATE:20190721
DTSTAMP:20260425T053024
CREATED:20190711T140406Z
LAST-MODIFIED:20190711T140406Z
UID:10001762-1563580800-1563667199@spargolf.org
SUMMARY:Entrée: Grilled Rosemary Chicken Wrap W/ Seasoned Fries
DESCRIPTION:
URL:https://spargolf.org/event/entree-grilled-rosemary-chicken-wrap-w-seasoned-fries/
CATEGORIES:Beverly’s on 19 Lunch Specials
END:VEVENT
BEGIN:VEVENT
DTSTART;VALUE=DATE:20190721
DTEND;VALUE=DATE:20190722
DTSTAMP:20260425T053024
CREATED:20190711T140427Z
LAST-MODIFIED:20190711T140428Z
UID:10001763-1563667200-1563753599@spargolf.org
SUMMARY:Entrée: Baked Chicken\, Starch: Mashed Potato W/ Gravy\, Vegetables: Cabbage Greens & Purple Hull Peas\, Bread: Cornbread Muffin
DESCRIPTION:
URL:https://spargolf.org/event/entree-baked-chicken-starch-mashed-potato-w-gravy-vegetables-cabbage-greens-purple-hull-peas-bread-cornbread-muffin/
CATEGORIES:Beverly’s on 19 Lunch Specials
END:VEVENT
BEGIN:VEVENT
DTSTART;VALUE=DATE:20190722
DTEND;VALUE=DATE:20190723
DTSTAMP:20260425T053024
CREATED:20190712T135910Z
LAST-MODIFIED:20190712T135910Z
UID:10001764-1563753600-1563839999@spargolf.org
SUMMARY:Entrée: Chicken Spaghetti\, Vegetables: Side Salad\, Green Beans\, Bread: Dinner Roll
DESCRIPTION:
URL:https://spargolf.org/event/entree-chicken-spaghetti-vegetables-side-salad-green-beans-bread-dinner-roll/
CATEGORIES:Beverly’s on 19 Lunch Specials
END:VEVENT
END:VCALENDAR