BEGIN:VCALENDAR
VERSION:2.0
PRODID:-//Spar Golf Courses - ECPv6.15.20//NONSGML v1.0//EN
CALSCALE:GREGORIAN
METHOD:PUBLISH
X-ORIGINAL-URL:https://spargolf.org
X-WR-CALDESC:Events for Spar Golf Courses
REFRESH-INTERVAL;VALUE=DURATION:PT1H
X-Robots-Tag:noindex
X-PUBLISHED-TTL:PT1H
BEGIN:VTIMEZONE
TZID:America/Chicago
BEGIN:DAYLIGHT
TZOFFSETFROM:-0600
TZOFFSETTO:-0500
TZNAME:CDT
DTSTART:20180311T080000
END:DAYLIGHT
BEGIN:STANDARD
TZOFFSETFROM:-0500
TZOFFSETTO:-0600
TZNAME:CST
DTSTART:20181104T070000
END:STANDARD
BEGIN:DAYLIGHT
TZOFFSETFROM:-0600
TZOFFSETTO:-0500
TZNAME:CDT
DTSTART:20190310T080000
END:DAYLIGHT
BEGIN:STANDARD
TZOFFSETFROM:-0500
TZOFFSETTO:-0600
TZNAME:CST
DTSTART:20191103T070000
END:STANDARD
BEGIN:DAYLIGHT
TZOFFSETFROM:-0600
TZOFFSETTO:-0500
TZNAME:CDT
DTSTART:20200308T080000
END:DAYLIGHT
BEGIN:STANDARD
TZOFFSETFROM:-0500
TZOFFSETTO:-0600
TZNAME:CST
DTSTART:20201101T070000
END:STANDARD
END:VTIMEZONE
BEGIN:VEVENT
DTSTART;VALUE=DATE:20190720
DTEND;VALUE=DATE:20190721
DTSTAMP:20260425T214430
CREATED:20190711T140406Z
LAST-MODIFIED:20190711T140406Z
UID:10001762-1563580800-1563667199@spargolf.org
SUMMARY:Entrée: Grilled Rosemary Chicken Wrap W/ Seasoned Fries
DESCRIPTION:
URL:https://spargolf.org/event/entree-grilled-rosemary-chicken-wrap-w-seasoned-fries/
CATEGORIES:Beverly’s on 19 Lunch Specials
END:VEVENT
BEGIN:VEVENT
DTSTART;VALUE=DATE:20190721
DTEND;VALUE=DATE:20190722
DTSTAMP:20260425T214430
CREATED:20190711T140427Z
LAST-MODIFIED:20190711T140428Z
UID:10001763-1563667200-1563753599@spargolf.org
SUMMARY:Entrée: Baked Chicken\, Starch: Mashed Potato W/ Gravy\, Vegetables: Cabbage Greens & Purple Hull Peas\, Bread: Cornbread Muffin
DESCRIPTION:
URL:https://spargolf.org/event/entree-baked-chicken-starch-mashed-potato-w-gravy-vegetables-cabbage-greens-purple-hull-peas-bread-cornbread-muffin/
CATEGORIES:Beverly’s on 19 Lunch Specials
END:VEVENT
BEGIN:VEVENT
DTSTART;VALUE=DATE:20190722
DTEND;VALUE=DATE:20190723
DTSTAMP:20260425T214430
CREATED:20190712T135910Z
LAST-MODIFIED:20190712T135910Z
UID:10001764-1563753600-1563839999@spargolf.org
SUMMARY:Entrée: Chicken Spaghetti\, Vegetables: Side Salad\, Green Beans\, Bread: Dinner Roll
DESCRIPTION:
URL:https://spargolf.org/event/entree-chicken-spaghetti-vegetables-side-salad-green-beans-bread-dinner-roll/
CATEGORIES:Beverly’s on 19 Lunch Specials
END:VEVENT
BEGIN:VEVENT
DTSTART;VALUE=DATE:20190724
DTEND;VALUE=DATE:20190725
DTSTAMP:20260425T214430
CREATED:20190712T135935Z
LAST-MODIFIED:20190712T135936Z
UID:10001765-1563926400-1564012799@spargolf.org
SUMMARY:Entrée: Hamburger Steak\, Starch: Rice & Gravy\, Vegetables: Mixed Greens\, Lima Beans\, Bread: Cornbread
DESCRIPTION:
URL:https://spargolf.org/event/entree-hamburger-steak-starch-rice-gravy-vegetables-mixed-greens-lima-beans-bread-cornbread/
CATEGORIES:Beverly’s on 19 Lunch Specials
END:VEVENT
BEGIN:VEVENT
DTSTART;VALUE=DATE:20190725
DTEND;VALUE=DATE:20190726
DTSTAMP:20260425T214430
CREATED:20190712T140001Z
LAST-MODIFIED:20190712T140001Z
UID:10001766-1564012800-1564099199@spargolf.org
SUMMARY:Entrée: Sausage & Peppers\, Starch: Spaghetti Pasta\, Vegetables: Side Salad\, Fiesta Corn\, Bread: Dinner Roll
DESCRIPTION:
URL:https://spargolf.org/event/entree-sausage-peppers-starch-spaghetti-pasta-vegetables-side-salad-fiesta-corn-bread-dinner-roll/
CATEGORIES:Beverly’s on 19 Lunch Specials
END:VEVENT
BEGIN:VEVENT
DTSTART;VALUE=DATE:20190726
DTEND;VALUE=DATE:20190727
DTSTAMP:20260425T214430
CREATED:20190712T140021Z
LAST-MODIFIED:20190712T140021Z
UID:10001837-1564099200-1564185599@spargolf.org
SUMMARY:Entrée: Catfish & Shrimp\, Starch: Potato Salad\, Baked Beans\, Vegetables: Coleslaw\, 2nd Choice $12.00 Catfish Acadiana w/ Rice\, Dinner Roll
DESCRIPTION:
URL:https://spargolf.org/event/entree-catfish-shrimp-starch-potato-salad-baked-beans-vegetables-coleslaw-2nd-choice-12-00-catfish-acadiana-w-rice-dinner-roll/
CATEGORIES:Beverly’s on 19 Lunch Specials
END:VEVENT
BEGIN:VEVENT
DTSTART;VALUE=DATE:20190727
DTEND;VALUE=DATE:20190728
DTSTAMP:20260425T214430
CREATED:20190712T140041Z
LAST-MODIFIED:20190712T140042Z
UID:10001838-1564185600-1564271999@spargolf.org
SUMMARY:Entrée: Shredded BBQ Chicken Sandwich w/ Seasoned Fries
DESCRIPTION:
URL:https://spargolf.org/event/entree-shredded-bbq-chicken-sandwich-w-seasoned-fries/
CATEGORIES:Beverly’s on 19 Lunch Specials
END:VEVENT
BEGIN:VEVENT
DTSTART;VALUE=DATE:20190728
DTEND;VALUE=DATE:20190729
DTSTAMP:20260425T214430
CREATED:20190712T140104Z
LAST-MODIFIED:20190712T140105Z
UID:10001840-1564272000-1564358399@spargolf.org
SUMMARY:Entrée: Red Gravy Meatloaf\, Starch: Mashed Potato\, Vegetables : Seasoned Corn\, Green Beans\, Bread: Dinner Roll
DESCRIPTION:
URL:https://spargolf.org/event/entree-red-gravy-meatloaf-starch-mashed-potato-vegetables-seasoned-corn-green-beans-bread-dinner-roll/
CATEGORIES:Beverly’s on 19 Lunch Specials
END:VEVENT
BEGIN:VEVENT
DTSTART;VALUE=DATE:20190729
DTEND;VALUE=DATE:20190730
DTSTAMP:20260425T214430
CREATED:20190724T213633Z
LAST-MODIFIED:20190724T213634Z
UID:10001841-1564358400-1564444799@spargolf.org
SUMMARY:Entrée: Honey Grilled Pork Chop\, Starch: Macaroni & Cheese \, Vegetables: Green Beans \, Side Salad\, Bread: Dinner Roll
DESCRIPTION:
URL:https://spargolf.org/event/entree-honey-grilled-pork-chop-starch-macaroni-cheese-vegetables-green-beans-side-salad-bread-dinner-roll/
CATEGORIES:Beverly’s on 19 Lunch Specials
END:VEVENT
BEGIN:VEVENT
DTSTART;VALUE=DATE:20190731
DTEND;VALUE=DATE:20190801
DTSTAMP:20260425T214430
CREATED:20190724T213657Z
LAST-MODIFIED:20190724T213657Z
UID:10001844-1564531200-1564617599@spargolf.org
SUMMARY:Entrée: Mongolian Beef & Broccoli\, Starch: Lo Mein Noodles\,  Bread: Dinner Roll
DESCRIPTION:
URL:https://spargolf.org/event/entree-mongolian-beef-broccoli-starch-lo-mein-noodles-bread-dinner-roll/
CATEGORIES:Beverly’s on 19 Lunch Specials
END:VEVENT
BEGIN:VEVENT
DTSTART;VALUE=DATE:20190801
DTEND;VALUE=DATE:20190802
DTSTAMP:20260425T214430
CREATED:20190724T213721Z
LAST-MODIFIED:20190724T213722Z
UID:10001845-1564617600-1564703999@spargolf.org
SUMMARY:Entrée: Fried Chicken \, Starch: Rice & Gravy \, Vegetables: Field Peas\, Mustard Greens\, Bread : Dinner Roll
DESCRIPTION:
URL:https://spargolf.org/event/entree-fried-chicken-starch-rice-gravy-vegetables-field-peas-mustard-greens-bread-dinner-roll/
CATEGORIES:Beverly’s on 19 Lunch Specials
END:VEVENT
BEGIN:VEVENT
DTSTART;VALUE=DATE:20190802
DTEND;VALUE=DATE:20190803
DTSTAMP:20260425T214430
CREATED:20190724T213742Z
LAST-MODIFIED:20190724T213742Z
UID:10001848-1564704000-1564790399@spargolf.org
SUMMARY:Entrée: Catfish & Shrimp\, Vegetables: Potato Salad\, or Coleslaw\, Baked Beans\, 2nd Choice $12.00 Entrée: Shrimp Creole\, Starch: Rice\, Bread: Dinner Roll
DESCRIPTION:
URL:https://spargolf.org/event/entree-catfish-shrimp-vegetables-potato-salad-or-coleslaw-baked-beans-2nd-choice-12-00-entree-shrimp-creole-starch-rice-bread-dinner-roll/
CATEGORIES:Beverly’s on 19 Lunch Specials
END:VEVENT
BEGIN:VEVENT
DTSTART;VALUE=DATE:20190803
DTEND;VALUE=DATE:20190804
DTSTAMP:20260425T214430
CREATED:20190724T213806Z
LAST-MODIFIED:20190724T213807Z
UID:10001850-1564790400-1564876799@spargolf.org
SUMMARY:Entrée: Catfish Basket w/ Fries
DESCRIPTION:
URL:https://spargolf.org/event/entree-catfish-basket-w-fries/
CATEGORIES:Beverly’s on 19 Lunch Specials
END:VEVENT
BEGIN:VEVENT
DTSTART;VALUE=DATE:20190804
DTEND;VALUE=DATE:20190805
DTSTAMP:20260425T214430
CREATED:20190724T213835Z
LAST-MODIFIED:20190724T213835Z
UID:10001852-1564876800-1564963199@spargolf.org
SUMMARY:Entrée: Swiss Steak w/ Gravy\, Starch Buttered Egg Noodles\, Vegetables : Green Beans\, Corn\, Bread: Dinner Roll
DESCRIPTION:
URL:https://spargolf.org/event/entree-swiss-steak-w-gravy-starch-buttered-egg-noodles-vegetables-green-beans-corn-bread-dinner-roll/
CATEGORIES:Beverly’s on 19 Lunch Specials
END:VEVENT
BEGIN:VEVENT
DTSTART;VALUE=DATE:20190805
DTEND;VALUE=DATE:20190806
DTSTAMP:20260425T214430
CREATED:20190802T165328Z
LAST-MODIFIED:20190802T165328Z
UID:10001855-1564963200-1565049599@spargolf.org
SUMMARY:Entrée : Beef Tips\, Starch: Rice\, Vegetables: Purple Hull Peas\, Candied Yams\, Bread: Cornbread
DESCRIPTION:
URL:https://spargolf.org/event/entree-beef-tips-starch-rice-vegetables-purple-hull-peas-candied-yams-bread-cornbread/
CATEGORIES:Beverly’s on 19 Lunch Specials
END:VEVENT
BEGIN:VEVENT
DTSTART;VALUE=DATE:20190807
DTEND;VALUE=DATE:20190808
DTSTAMP:20260425T214430
CREATED:20190802T165354Z
LAST-MODIFIED:20190802T165354Z
UID:10001767-1565136000-1565222399@spargolf.org
SUMMARY:Entrée: Baked Spaghetti\, Vegetables: Green beans \, House Salad\, Garlic Butter Roll
DESCRIPTION:
URL:https://spargolf.org/event/entree-baked-spaghetti-vegetables-green-beans-house-salad-garlic-butter-roll/
CATEGORIES:Beverly’s on 19 Lunch Specials
END:VEVENT
BEGIN:VEVENT
DTSTART;VALUE=DATE:20190808
DTEND;VALUE=DATE:20190809
DTSTAMP:20260425T214430
CREATED:20190802T165416Z
LAST-MODIFIED:20190802T165416Z
UID:10001768-1565222400-1565308799@spargolf.org
SUMMARY:Entrée: Country Fried Steak \, Starch: Garlic Butter Mashed Potato\, Vegetables: Side Salad\, Buttered Corn\, Bread: Dinner Roll
DESCRIPTION:
URL:https://spargolf.org/event/entree-country-fried-steak-starch-garlic-butter-mashed-potato-vegetables-side-salad-buttered-corn-bread-dinner-roll/
CATEGORIES:Beverly’s on 19 Lunch Specials
END:VEVENT
BEGIN:VEVENT
DTSTART;VALUE=DATE:20190809
DTEND;VALUE=DATE:20190810
DTSTAMP:20260425T214430
CREATED:20190802T165437Z
LAST-MODIFIED:20190802T165437Z
UID:10001769-1565308800-1565395199@spargolf.org
SUMMARY:Entrée: Catfish & Shrimp\, Starch: Baked Beans\, Vegetables: Potato Salad or Coleslaw or Chicken & Sausage Etouffee\, 2nd Choice $12.00 Sausage & Shrimp Etouffee w/ Rice & Dinner Roll
DESCRIPTION:
URL:https://spargolf.org/event/entree-catfish-shrimp-starch-baked-beans-vegetables-potato-salad-or-coleslaw-or-chicken-sausage-etouffee-2nd-choice-12-00-sausage-shrimp-etouffee-w-rice-dinner-roll/
CATEGORIES:Beverly’s on 19 Lunch Specials
END:VEVENT
BEGIN:VEVENT
DTSTART;VALUE=DATE:20190810
DTEND;VALUE=DATE:20190811
DTSTAMP:20260425T214430
CREATED:20190802T165459Z
LAST-MODIFIED:20190802T165459Z
UID:10001770-1565395200-1565481599@spargolf.org
SUMMARY:Entrée: Swiss & Bacon Burger w/ Seasoned Fries
DESCRIPTION:
URL:https://spargolf.org/event/entree-swiss-bacon-burger-w-seasoned-fries/
CATEGORIES:Beverly’s on 19 Lunch Specials
END:VEVENT
BEGIN:VEVENT
DTSTART;VALUE=DATE:20190811
DTEND;VALUE=DATE:20190812
DTSTAMP:20260425T214430
CREATED:20190802T165521Z
LAST-MODIFIED:20190802T165521Z
UID:10001771-1565481600-1565567999@spargolf.org
SUMMARY:Entrée: Beef Pot Roast\, Starch: Rice w/ Gravy\, Vegetables: Mixed Greens\, Candied Yams\, Bread: Corn Bread
DESCRIPTION:
URL:https://spargolf.org/event/entree-beef-pot-roast-starch-rice-w-gravy-vegetables-mixed-greens-candied-yams-bread-corn-bread/
CATEGORIES:Beverly’s on 19 Lunch Specials
END:VEVENT
BEGIN:VEVENT
DTSTART;VALUE=DATE:20190812
DTEND;VALUE=DATE:20190813
DTSTAMP:20260425T214430
CREATED:20190802T201531Z
LAST-MODIFIED:20190802T201531Z
UID:10001772-1565568000-1565654399@spargolf.org
SUMMARY:Entrée: Baked Chicken\, Starch: Broccoli Scalloped Potatoes\, Vegetables: Side Salad \, Fried Corn\, Bread: Dinner Roll
DESCRIPTION:
URL:https://spargolf.org/event/entree-baked-chicken-starch-broccoli-scalloped-potatoes-vegetables-side-salad-fried-corn-bread-dinner-roll/
CATEGORIES:Beverly’s on 19 Lunch Specials
END:VEVENT
BEGIN:VEVENT
DTSTART;VALUE=DATE:20190814
DTEND;VALUE=DATE:20190815
DTSTAMP:20260425T214430
CREATED:20190802T201553Z
LAST-MODIFIED:20190802T201554Z
UID:10001773-1565740800-1565827199@spargolf.org
SUMMARY:Entrée: Chicken & Sausage Pasta Jambalaya\, Vegetable: Side Salad\, Bread: Garlic Butter Roll
DESCRIPTION:
URL:https://spargolf.org/event/entree-chicken-sausage-pasta-jambalaya-vegetable-side-salad-bread-garlic-butter-roll/
CATEGORIES:Beverly’s on 19 Lunch Specials
END:VEVENT
BEGIN:VEVENT
DTSTART;VALUE=DATE:20190815
DTEND;VALUE=DATE:20190816
DTSTAMP:20260425T214430
CREATED:20190802T201615Z
LAST-MODIFIED:20190802T201615Z
UID:10001774-1565827200-1565913599@spargolf.org
SUMMARY:Entrée: Fried Pork Chop\, Starch: Dirty Rice\, Vegetables: Green Beans\, Side Salad\, Bread: Dinner Roll
DESCRIPTION:
URL:https://spargolf.org/event/entree-fried-pork-chop-starch-dirty-rice-vegetables-green-beans-side-salad-bread-dinner-roll/
CATEGORIES:Beverly’s on 19 Lunch Specials
END:VEVENT
BEGIN:VEVENT
DTSTART;VALUE=DATE:20190816
DTEND;VALUE=DATE:20190817
DTSTAMP:20260425T214430
CREATED:20190802T201636Z
LAST-MODIFIED:20190802T201636Z
UID:10001775-1565913600-1565999999@spargolf.org
SUMMARY:Entrée: Catfish & Shrimp\, Starch: Baked Beans\, Vegetables: Potato Salad or Coleslaw \, 2nd Choice $12.00 Baked Fish W/ Lemon Dill Sauce\, Starch: Loaded Baked Potato\, Side Salad\, Dinner Roll
DESCRIPTION:
URL:https://spargolf.org/event/entree-catfish-shrimp-starch-baked-beans-vegetables-potato-salad-or-coleslaw-2nd-choice-12-00-baked-fish-w-lemon-dill-sauce-starch-loaded-baked-potato-side-salad-dinner-roll/
CATEGORIES:Beverly’s on 19 Lunch Specials
END:VEVENT
BEGIN:VEVENT
DTSTART;VALUE=DATE:20190817
DTEND;VALUE=DATE:20190818
DTSTAMP:20260425T214430
CREATED:20190802T201659Z
LAST-MODIFIED:20190802T201659Z
UID:10001776-1566000000-1566086399@spargolf.org
SUMMARY:Entrée: Chicken Fajita Wrap W/ Seasoned Fries
DESCRIPTION:
URL:https://spargolf.org/event/entree-chicken-fajita-wrap-w-seasoned-fries/
CATEGORIES:Beverly’s on 19 Lunch Specials
END:VEVENT
BEGIN:VEVENT
DTSTART;VALUE=DATE:20190818
DTEND;VALUE=DATE:20190819
DTSTAMP:20260425T214430
CREATED:20190802T201723Z
LAST-MODIFIED:20190802T201723Z
UID:10001856-1566086400-1566172799@spargolf.org
SUMMARY:Entrée: Hamburger Steak w/ Grilled Onions\, Starch: Rice w/ Gravy\, Vegetables: Purple Hull Peas. Candied Yams\, Bread: Cornbread
DESCRIPTION:
URL:https://spargolf.org/event/entree-hamburger-steak-w-grilled-onions-starch-rice-w-gravy-vegetables-purple-hull-peas-candied-yams-bread-cornbread/
CATEGORIES:Beverly’s on 19 Lunch Specials
END:VEVENT
BEGIN:VEVENT
DTSTART;VALUE=DATE:20190819
DTEND;VALUE=DATE:20190820
DTSTAMP:20260425T214430
CREATED:20190816T192959Z
LAST-MODIFIED:20190816T192959Z
UID:10001858-1566172800-1566172800@spargolf.org
SUMMARY:Entrée: Chicken Fried Chicken w/ Chicken Gravy\, Starch: Mashed Potato\, Vegetables: Green Beans\, Side Salad\, Bread: Grilled Biscuit
DESCRIPTION:
URL:https://spargolf.org/event/entree-chicken-fried-chicken-w-chicken-gravy-starch-mashed-potato-vegetables-green-beans-side-salad-bread-grilled-biscuit/
CATEGORIES:Beverly’s on 19 Lunch Specials
END:VEVENT
BEGIN:VEVENT
DTSTART;VALUE=DATE:20190821
DTEND;VALUE=DATE:20190822
DTSTAMP:20260425T214430
CREATED:20190816T193026Z
LAST-MODIFIED:20190816T193026Z
UID:10001859-1566345600-1566431999@spargolf.org
SUMMARY:Entrée: Southern Fried Chicken\, Starch: Rice & Gravy\, Vegetables: Mustard Greens\, Candied Yams\, Bread: Cornbread Muffin
DESCRIPTION:
URL:https://spargolf.org/event/entree-southern-fried-chicken-starch-rice-gravy-vegetables-mustard-greens-candied-yams-bread-cornbread-muffin/
CATEGORIES:Beverly’s on 19 Lunch Specials
END:VEVENT
BEGIN:VEVENT
DTSTART;VALUE=DATE:20190822
DTEND;VALUE=DATE:20190823
DTSTAMP:20260425T214430
CREATED:20190816T193052Z
LAST-MODIFIED:20190816T193052Z
UID:10001860-1566432000-1566518399@spargolf.org
SUMMARY:Entrée: Spaghetti Bolognese\, Vegetables: Green Beans\, Side Salad\, Bread: Garlic Butter Roll
DESCRIPTION:
URL:https://spargolf.org/event/entree-spaghetti-bolognese-vegetables-green-beans-side-salad-bread-garlic-butter-roll/
CATEGORIES:Beverly’s on 19 Lunch Specials
END:VEVENT
BEGIN:VEVENT
DTSTART;VALUE=DATE:20190823
DTEND;VALUE=DATE:20190824
DTSTAMP:20260425T214430
CREATED:20190816T193113Z
LAST-MODIFIED:20190816T193114Z
UID:10001861-1566518400-1566604799@spargolf.org
SUMMARY:Entrée: Catfish & Shrimp\, Vegetables: Potato Salad or Coleslaw\, Starch: Baked Beans\, 2nd Choice: $10.00 Chicken & Sausage Gumbo W/ Rice & Dinner Roll or $12.00 Seafood Gumbo W/ Rice & Dinner Roll
DESCRIPTION:
URL:https://spargolf.org/event/entree-catfish-shrimp-vegetables-potato-salad-or-coleslaw-starch-baked-beans-2nd-choice-10-00-chicken-sausage-gumbo-w-rice-dinner-roll-or-12-00-seafood-gumbo-w-rice-dinner-roll/
CATEGORIES:Beverly’s on 19 Lunch Specials
END:VEVENT
END:VCALENDAR